BEGIN:VCALENDAR
VERSION:2.0
PRODID:-//Claus Kindt Bürotechnik GmbH - ECPv6.15.19//NONSGML v1.0//EN
CALSCALE:GREGORIAN
METHOD:PUBLISH
X-ORIGINAL-URL:https://claus-kindt.de
X-WR-CALDESC:Veranstaltungen für Claus Kindt Bürotechnik GmbH
REFRESH-INTERVAL;VALUE=DURATION:PT1H
X-Robots-Tag:noindex
X-PUBLISHED-TTL:PT1H
BEGIN:VTIMEZONE
TZID:Europe/Berlin
BEGIN:DAYLIGHT
TZOFFSETFROM:+0100
TZOFFSETTO:+0200
TZNAME:CEST
DTSTART:20250330T010000
END:DAYLIGHT
BEGIN:STANDARD
TZOFFSETFROM:+0200
TZOFFSETTO:+0100
TZNAME:CET
DTSTART:20251026T010000
END:STANDARD
BEGIN:DAYLIGHT
TZOFFSETFROM:+0100
TZOFFSETTO:+0200
TZNAME:CEST
DTSTART:20260329T010000
END:DAYLIGHT
BEGIN:STANDARD
TZOFFSETFROM:+0200
TZOFFSETTO:+0100
TZNAME:CET
DTSTART:20261025T010000
END:STANDARD
BEGIN:DAYLIGHT
TZOFFSETFROM:+0100
TZOFFSETTO:+0200
TZNAME:CEST
DTSTART:20270328T010000
END:DAYLIGHT
BEGIN:STANDARD
TZOFFSETFROM:+0200
TZOFFSETTO:+0100
TZNAME:CET
DTSTART:20271031T010000
END:STANDARD
END:VTIMEZONE
BEGIN:VEVENT
DTSTART;TZID=Europe/Berlin:20260521T100000
DTEND;TZID=Europe/Berlin:20260521T110000
DTSTAMP:20260419T152944
CREATED:20260314T153357Z
LAST-MODIFIED:20260314T155848Z
UID:5240-1779357600-1779361200@claus-kindt.de
SUMMARY:DocuWare Businessfrühstück am 21. Mai
DESCRIPTION:Starten Sie mit uns in den Tag und erfahren Sie bei einem leckeren Frühstück\,\nwie Sie dank digitaler Rechnungsverarbeitung Ressourcen sparen können. \nEffiziente Workflows für Ihre Rechnungsprüfung\nDrei-Wege-Abgleich (Automatischer Abgleich von Bestellung\, Lieferschein und Rechnung auf Differenzen) \nWann: 21.05.2026\nUhrzeit: 10.00 Uhr\nWo: Ramskamp 63\, 25337 Elmshorn \nKommen Sie vorbei\, tauschen Sie sich mit anderen Unternehmen aus und\nstarten Sie entspannt in den Tag. \nJetzt anmelden und Platz sichern!\nAnmeldung einfach an info@claus-kindt.de oder mit untenstehenden Formular. \nWir freuen uns auf Sie.\nIhr Claus-Kindt-Team \n  \n  \nDirekt anmelden: \n\n\n\n  \n\n\n\n Firma\n \n \n Namen\n \n \n E-Mail\n \n \n Veranstaltung auswählen\nDocuWare Businessfrühstück am 19. März 2026STARFACE Businessfrühstück am 16. April 2026DocuWare Businessfrühstück am 21. Mai 2026\n\n \n Anzahl der teilnehmenden Personen\n12\n\nIch habe die Datenschutzerklärung gelesen und stimme der Verarbeitung meiner Daten zu.
URL:https://claus-kindt.de/veranstaltungen/docuware-businessfruehstueck-am-21-mai/
LOCATION:Claus Kindt Bürotechnik GmbH
ATTACH;FMTTYPE=image/jpeg:https://claus-kindt.de/wp-content/uploads/2026/03/DocuWare-Icon.jpg
END:VEVENT
END:VCALENDAR